BEGIN:VCALENDAR
VERSION:2.0
PRODID:Feira Inteira a Correr 2026 
X-WR-CALNAME:Feira Inteira a Correr 2026 
X-WR-TIMEZONE:Europe/Lisbon
X-PUBLISHED-TTL:P1W
BEGIN:VTIMEZONE
TZID:Europe/Lisbon
X-LIC-LOCATION:Europe/Lisbon
END:VTIMEZONE
BEGIN:VEVENT
UID:69ecc1dea5ffc
DTSTART;VALUE=DATE:20260501
SEQUENCE:0
TRANSP:OPAQUE
DTEND;VALUE=DATE:20260502
SUMMARY:Feira Inteira a Correr 2026 
CLASS:PUBLIC
DESCRIPTION:“Feira Inteira a Correr 2026”&nbsp\;desafio extremo que une
  a superação física\, a um propósito\, a valorização do concelho de 
 Santa Maria da Feira\, e que conta com o apoio da Divisão de Desporto\, d
 a Câmara Municipal de Santa Maria da Feira.&nbsp\;Dia 01/05/2026 - 11:00h
  - Ponto de Encontro Sede da Junta de Freguesia de Milheirós de Poiares c
 om destino Romariz&nbsp\;&nbsp\;DESAFIO DE CORRIDA · 1 e 2 de MAIO 2026Fe
 ira Inteira a CorrerNão se corta um concelho aos bocados. Corre-se por in
 teiro.— OBJETIVOSO desafio Feira Inteira a Correr tem como objetivo perc
 orrer todas as 31 freguesias do concelho de Santa Maria da Feira no mês d
 e maio de 2026\, promovendo a atividade física acessível\, a proximidade
  com a população local e a valorização do território.Através de uma 
 forte componente audiovisual e digital\, cada freguesia será documentada 
 e promovida\, contribuindo para uma imagem de Santa Maria da Feira como um
  concelho ativo\, unido e comprometido.→ Percorrer as 31 freguesias do c
 oncelho em 2 dias de desafio (cerca de 50km/dia)→ Promover a atividade f
 ísica como prática acessível a toda a comunidade→ Valorizar e dar vis
 ibilidade a cada uma das freguesias do concelho→ Envolver as juntas de f
 reguesia\, empresas locais e cidadãos→ Produzir conteúdos digitais e a
 udiovisuais de impacto duradouro→ Contribuir para a identidade e coesão
  territorial de Santa Maria da Feira— MEMÓRIA DESCRITIVAA iniciativa na
 sce do percurso desportivo e comunitário de Cátia Balona\, atleta natura
 l e residente no concelho de Santa Maria da Feira\, homenageada na Gala do
  Desporto do concelho por dois anos consecutivos.Nos desafios anteriores\,
  foram envolvidos mais de 24 negócios locais e angariados 2.500 € para 
 uma pessoa em situação vulnerável. Estes projetos estão a ser document
 ados num documentáriocom previsão de divulgação em meios televisivos e
  plataformas digitais.O novo desafio percorrerá as 31 freguesias em duas 
 jornadas intensivas\, com equipa de apoio\, cobertura fotográfica e víde
 o em cada etapa\, e forte presença nas redes sociais em tempo real.— PE
 RCURSO — 31 FREGUESIAS (ordenadas por código)O desafio percorrerá as 3
 1 freguesias ao longo de 2 dias\, com ponto de partida na Câmara Municipa
 l de S. M. Da Feira e chegada prevista no parque de S. M. De Lamas.1 Santa
  Maria da Feira&nbsp\; &nbsp\; &nbsp\; 12 Pigeiros&nbsp\; &nbsp\; &nbsp\; 
 &nbsp\; &nbsp\; &nbsp\; &nbsp\; &nbsp\; &nbsp\; &nbsp\; &nbsp\; &nbsp\; &n
 bsp\; &nbsp\; &nbsp\; &nbsp\; 24 Sanguedo2 Espargo&nbsp\; &nbsp\; &nbsp\; 
 &nbsp\; &nbsp\; &nbsp\; &nbsp\; &nbsp\; &nbsp\; &nbsp\; &nbsp\; &nbsp\; &n
 bsp\; &nbsp\; &nbsp\; &nbsp\;13 Caldas de São Jorge&nbsp\; &nbsp\; &nbsp\
 ; &nbsp\;25 Argoncilhe3 Souto&nbsp\; &nbsp\; &nbsp\; &nbsp\; &nbsp\; &nbsp
 \; &nbsp\; &nbsp\; &nbsp\; &nbsp\; &nbsp\; &nbsp\; &nbsp\; &nbsp\; &nbsp\;
  &nbsp\; &nbsp\; &nbsp\; 14 Guisande&nbsp\; &nbsp\; &nbsp\; &nbsp\; &nbsp\
 ; &nbsp\; &nbsp\; &nbsp\; &nbsp\; &nbsp\; &nbsp\; &nbsp\; &nbsp\; &nbsp\; 
 &nbsp\;26 Nogueira da Regedoura4 São Paio de Oleiros&nbsp\; &nbsp\; &nbsp
 \; &nbsp\; 16 Vale&nbsp\; &nbsp\; &nbsp\; &nbsp\; &nbsp\; &nbsp\; &nbsp\; 
 &nbsp\; &nbsp\; &nbsp\; &nbsp\; &nbsp\; &nbsp\; &nbsp\; &nbsp\; &nbsp\; &n
 bsp\; &nbsp\; &nbsp\; &nbsp\;27 Travanca5 Mosteiro&nbsp\; &nbsp\; &nbsp\; 
 &nbsp\; &nbsp\; &nbsp\; &nbsp\; &nbsp\; &nbsp\; &nbsp\; &nbsp\; &nbsp\; &n
 bsp\; &nbsp\; &nbsp\; 17 Lourosa&nbsp\; &nbsp\; &nbsp\; &nbsp\; &nbsp\; &n
 bsp\; &nbsp\; &nbsp\; &nbsp\; &nbsp\; &nbsp\; &nbsp\; &nbsp\; &nbsp\; &nbs
 p\; &nbsp\; 28 Paços de Brandão6 Fornos&nbsp\; &nbsp\; &nbsp\; &nbsp\; &
 nbsp\; &nbsp\; &nbsp\; &nbsp\; &nbsp\; &nbsp\; &nbsp\; &nbsp\; &nbsp\; &nb
 sp\; &nbsp\; &nbsp\; &nbsp\; 18 Gião&nbsp\; &nbsp\; &nbsp\; &nbsp\; &nbsp
 \; &nbsp\; &nbsp\; &nbsp\; &nbsp\; &nbsp\; &nbsp\; &nbsp\; &nbsp\; &nbsp\;
  &nbsp\; &nbsp\; &nbsp\; &nbsp\; &nbsp\; 29 Rio Meão7 Sanfins&nbsp\; &nbs
 p\; &nbsp\; &nbsp\; &nbsp\; &nbsp\; &nbsp\; &nbsp\; &nbsp\; &nbsp\; &nbsp\
 ; &nbsp\; &nbsp\; &nbsp\; &nbsp\; &nbsp\; &nbsp\;19 Lobão&nbsp\; &nbsp\; 
 &nbsp\; &nbsp\; &nbsp\; &nbsp\; &nbsp\; &nbsp\; &nbsp\; &nbsp\; &nbsp\; &n
 bsp\; &nbsp\; &nbsp\; &nbsp\; &nbsp\; &nbsp\; 30 São João de Ver8 Escap
 ães&nbsp\; &nbsp\; &nbsp\; &nbsp\; &nbsp\; &nbsp\; &nbsp\; &nbsp\; &nbsp\
 ; &nbsp\; &nbsp\; &nbsp\; &nbsp\; &nbsp\; &nbsp\;20 Vila Maior&nbsp\; &nbs
 p\; &nbsp\; &nbsp\; &nbsp\; &nbsp\; &nbsp\; &nbsp\; &nbsp\; &nbsp\; &nbsp\
 ; &nbsp\; &nbsp\; &nbsp\;41 Romariz9 Arrifana&nbsp\; &nbsp\; &nbsp\; &nbsp
 \; &nbsp\; &nbsp\; &nbsp\; &nbsp\; &nbsp\; &nbsp\; &nbsp\; &nbsp\; &nbsp\;
  &nbsp\; &nbsp\; &nbsp\;22 Fiães&nbsp\; &nbsp\; &nbsp\; &nbsp\; &nbsp\; &
 nbsp\; &nbsp\; &nbsp\; &nbsp\; &nbsp\; &nbsp\; &nbsp\; &nbsp\; &nbsp\; &nb
 sp\; &nbsp\; &nbsp\; &nbsp\; &nbsp\; 43 Canedo10 Milheiros de Poiares&nbsp
 \; &nbsp\; 23 Santa Maria de Lamas&nbsp\; &nbsp\; 45 Louredo11 Mozelos— 
 SOBRE A ATLETANome Cátia BalonaConcelho Santa Maria da FeiraFormação Fu
 tsal (nacional e internacional) · Atletismo — União de LamasReconhecim
 ento Homenageada na Gala do Desporto — 2 anos consecutivosProj. anterior
 es Back to Basic 101\,1 km · 496 km em 31 dias · 2.500 € angariadosRed
 es sociais Instagram · TikTok · Facebook · YouTube
X-MICROSOFT-CDO-ALLDAYEVENT:TRUE
DTSTAMP:20260425T133006Z
END:VEVENT
END:VCALENDAR