BEGIN:VCALENDAR
VERSION:2.0
PRODID:Caminhada Ambiental - Programação de Natal na Nossa Terra 
X-WR-CALNAME:Caminhada Ambiental - Programação de Natal na Nossa Terra 
X-WR-TIMEZONE:Europe/Lisbon
X-PUBLISHED-TTL:P1W
BEGIN:VTIMEZONE
TZID:Europe/Lisbon
X-LIC-LOCATION:Europe/Lisbon
END:VTIMEZONE
BEGIN:VEVENT
UID:69e5e9f7c7717
DTSTART;VALUE=DATE:20251207
SEQUENCE:0
TRANSP:OPAQUE
DTEND;VALUE=DATE:20251208
SUMMARY:Caminhada Ambiental - Programação de Natal na Nossa Terra 
CLASS:PUBLIC
DESCRIPTION:Caminhada AmbientalAção inserida na programação Natal na No
 ssa Terra\, de Milheirós de Poiares 7 de dezembro\, domingo\, das 10h à
 s 11h Praça São Miguel\, Junta de Freguesia de Milheirós de Poiares t
 r.ee/caminhada_ambiental
X-MICROSOFT-CDO-ALLDAYEVENT:TRUE
DTSTAMP:20260420T085519Z
END:VEVENT
END:VCALENDAR