BEGIN:VCALENDAR
VERSION:2.0
PRODID:Torneio de Malha S. Martinho
X-WR-CALNAME:Torneio de Malha S. Martinho
X-WR-TIMEZONE:Europe/Lisbon
X-PUBLISHED-TTL:P1W
BEGIN:VTIMEZONE
TZID:Europe/Lisbon
X-LIC-LOCATION:Europe/Lisbon
END:VTIMEZONE
BEGIN:VEVENT
UID:69e5e7d8265e4
DTSTART;VALUE=DATE:20251108
SEQUENCE:0
TRANSP:OPAQUE
DTEND;VALUE=DATE:20251109
SUMMARY:Torneio de Malha S. Martinho
CLASS:PUBLIC
X-MICROSOFT-CDO-ALLDAYEVENT:TRUE
DTSTAMP:20260420T084616Z
END:VEVENT
END:VCALENDAR