BEGIN:VCALENDAR
VERSION:2.0
PRODID:Desfile de Carnaval em Milheirós de Poiares 2026
X-WR-CALNAME:Desfile de Carnaval em Milheirós de Poiares 2026
X-WR-TIMEZONE:Europe/Lisbon
X-PUBLISHED-TTL:P1W
BEGIN:VTIMEZONE
TZID:Europe/Lisbon
X-LIC-LOCATION:Europe/Lisbon
END:VTIMEZONE
BEGIN:VEVENT
UID:69e5e9f796a44
DTSTART;VALUE=DATE:20260214
SEQUENCE:0
TRANSP:OPAQUE
DTEND;VALUE=DATE:20260215
SUMMARY:Desfile de Carnaval em Milheirós de Poiares 2026
CLASS:PUBLIC
DESCRIPTION:&nbsp\;Desfile de Carnaval em Milheirós de Poiares&nbsp\;No pr
 óximo 14 de fevereiro de 2026\, pelas 11h00\, realiza-se o tradicional De
 sfile de Carnaval em Milheirós de Poiares.&nbsp\;Concentração: Centro S
 ocial Dr. CrispimRecomendação à populaçãoDado que o desfile decorrer
 á no centro da freguesia\, recomenda-se que seja evitado o trânsito no c
 entro de Milheirós de Poiares durante a manhã do dia&nbsp\;14 de feverei
 ro 2026.O desfile terá início pelas&nbsp\;11h00\, com o seguinte percurs
 o:Rua Casa da Mâmoa → Avenida Dr. Crispim T. B. Castro → Praça S. Mi
 guel → Rua da Liberdade → Rua da Igreja Velha → Rua João Paulo II\,
  terminando na Praça S. Miguel.Agradecemos a compreensão de todos e apel
 amos ao respeito pelas indicações no local\, de forma a garantir a segur
 ança e o bom desenrolar do evento.Convidamos toda a população a partici
 par e a assistir a este momento de animação\, cor e alegria que promete 
 trazer muito espírito carnavalesco à nossa freguesia!    Venha mascarado
 (a) e junte-se à festa!&nbsp\;
X-MICROSOFT-CDO-ALLDAYEVENT:TRUE
DTSTAMP:20260420T085519Z
END:VEVENT
END:VCALENDAR