BEGIN:VCALENDAR
VERSION:2.0
PRODID:Passeio Fotografia de Natureza
X-WR-CALNAME:Passeio Fotografia de Natureza
X-WR-TIMEZONE:Europe/Lisbon
X-PUBLISHED-TTL:P1W
BEGIN:VTIMEZONE
TZID:Europe/Lisbon
X-LIC-LOCATION:Europe/Lisbon
END:VTIMEZONE
BEGIN:VEVENT
UID:69e5e946247cf
DTSTART;VALUE=DATE:20251129
SEQUENCE:0
TRANSP:OPAQUE
DTEND;VALUE=DATE:20251130
SUMMARY:Passeio Fotografia de Natureza
CLASS:PUBLIC
DESCRIPTION:Passeio Fotografia de Natureza&nbsp\;29 de novembro\, sábado\,
  das 14h às 15h&nbsp\;Parque de estacionamento no Parque de Lazer do Oute
 iro&nbsp\;tr.ee/fotonatureza&nbsp\;
X-MICROSOFT-CDO-ALLDAYEVENT:TRUE
DTSTAMP:20260420T085222Z
END:VEVENT
END:VCALENDAR